BEGIN:VCALENDAR
VERSION:2.0
PRODID:-//NCRLCA - ECPv6.15.20//NONSGML v1.0//EN
CALSCALE:GREGORIAN
METHOD:PUBLISH
X-WR-CALNAME:NCRLCA
X-ORIGINAL-URL:https://www.ncrlca.org
X-WR-CALDESC:Events for NCRLCA
REFRESH-INTERVAL;VALUE=DURATION:PT1H
X-Robots-Tag:noindex
X-PUBLISHED-TTL:PT1H
BEGIN:VTIMEZONE
TZID:America/New_York
BEGIN:DAYLIGHT
TZOFFSETFROM:-0500
TZOFFSETTO:-0400
TZNAME:EDT
DTSTART:20250309T070000
END:DAYLIGHT
BEGIN:STANDARD
TZOFFSETFROM:-0400
TZOFFSETTO:-0500
TZNAME:EST
DTSTART:20251102T060000
END:STANDARD
BEGIN:DAYLIGHT
TZOFFSETFROM:-0500
TZOFFSETTO:-0400
TZNAME:EDT
DTSTART:20260308T070000
END:DAYLIGHT
BEGIN:STANDARD
TZOFFSETFROM:-0400
TZOFFSETTO:-0500
TZNAME:EST
DTSTART:20261101T060000
END:STANDARD
BEGIN:DAYLIGHT
TZOFFSETFROM:-0500
TZOFFSETTO:-0400
TZNAME:EDT
DTSTART:20270314T070000
END:DAYLIGHT
BEGIN:STANDARD
TZOFFSETFROM:-0400
TZOFFSETTO:-0500
TZNAME:EST
DTSTART:20271107T060000
END:STANDARD
END:VTIMEZONE
BEGIN:VEVENT
DTSTART;VALUE=DATE:20260228
DTEND;VALUE=DATE:20260303
DTSTAMP:20260419T160530
CREATED:20260130T120954Z
LAST-MODIFIED:20260205T233030Z
UID:4834-1772236800-1772495999@www.ncrlca.org
SUMMARY:SOUTH ATLANTIC CONFERENCE (SAC) RESCHEDULED
DESCRIPTION:The South Atlantic Conference (SAC) has been rescheduled for February 28\, 2026\, through March 2\, 2026\, at Harrah’s Casino and Resort in Cherokee\, NC. \nInformation to book online is now available by clicking here. \nClick here for the new SAC Program Agenda. \nIf booking by phone: OFFER CODE: S02RLCA  \nRate: $115 per night \nArrival: Thursday 02/26/26 \nDeparture: Tuesday 03/03/26 \nCutoff Date: 02/20/26 \nResort Fee: $27.25 \nOffice: 828-497-8649 \n777 Casino Dr. Cherokee\, NC 28719
URL:https://www.ncrlca.org/event/south-atlantic-conference-sac-rescheduled/
LOCATION:NC
END:VEVENT
END:VCALENDAR