BEGIN:VCALENDAR
VERSION:2.0
PRODID:-//NCRLCA - ECPv6.15.20//NONSGML v1.0//EN
CALSCALE:GREGORIAN
METHOD:PUBLISH
X-ORIGINAL-URL:https://www.ncrlca.org
X-WR-CALDESC:Events for NCRLCA
REFRESH-INTERVAL;VALUE=DURATION:PT1H
X-Robots-Tag:noindex
X-PUBLISHED-TTL:PT1H
BEGIN:VTIMEZONE
TZID:America/New_York
BEGIN:DAYLIGHT
TZOFFSETFROM:-0500
TZOFFSETTO:-0400
TZNAME:EDT
DTSTART:20210314T070000
END:DAYLIGHT
BEGIN:STANDARD
TZOFFSETFROM:-0400
TZOFFSETTO:-0500
TZNAME:EST
DTSTART:20211107T060000
END:STANDARD
BEGIN:DAYLIGHT
TZOFFSETFROM:-0500
TZOFFSETTO:-0400
TZNAME:EDT
DTSTART:20220313T070000
END:DAYLIGHT
BEGIN:STANDARD
TZOFFSETFROM:-0400
TZOFFSETTO:-0500
TZNAME:EST
DTSTART:20221106T060000
END:STANDARD
BEGIN:DAYLIGHT
TZOFFSETFROM:-0500
TZOFFSETTO:-0400
TZNAME:EDT
DTSTART:20230312T070000
END:DAYLIGHT
BEGIN:STANDARD
TZOFFSETFROM:-0400
TZOFFSETTO:-0500
TZNAME:EST
DTSTART:20231105T060000
END:STANDARD
END:VTIMEZONE
BEGIN:VEVENT
DTSTART;TZID=America/New_York:20220131T080000
DTEND;TZID=America/New_York:20220601T170000
DTSTAMP:20260419T092649
CREATED:20220131T121230Z
LAST-MODIFIED:20220131T121230Z
UID:2180-1643616000-1654102800@www.ncrlca.org
SUMMARY:NC RURAL LETTER CARRIERS AUXILIARY SCHOLARSHIP DEADLINE FOR 2022
DESCRIPTION:NC Rural Letter Carriers Auxiliary Scholarship Applications must be submitted no later than June 1\, 2022. \nClick here for Application
URL:https://www.ncrlca.org/event/nc-rural-letter-carriers-auxiliary-scholarship-deadline-for-2022/
LOCATION:NC
END:VEVENT
BEGIN:VEVENT
DTSTART;TZID=America/New_York:20220306T080000
DTEND;TZID=America/New_York:20220520T170000
DTSTAMP:20260419T092649
CREATED:20220307T023803Z
LAST-MODIFIED:20220307T023803Z
UID:2213-1646553600-1653066000@www.ncrlca.org
SUMMARY:ROOM RESERVATION LINK FOR NC STATE CONVENTION IN CHEROKEE
DESCRIPTION:The reservation link to reserve your room for the 116th NC State Convention is listed below. \nhttps://www.caesars.com/book/?propCode=CHE&action=FindRooms&groupcode=S06NCRL \nGroup code        S06NCRL \n116th State Convention\nHarrah’s Resort & Casino\n777 Casino Drive\, Cherokee\, NC 28719\nJune 20 thru 22\, 2022\nPhone (800) 427-7247\nRoom Rate is $109.00 + tax ~ Group is NC Rural Letter Carriers\nReservations must be made by May 20\, 2022\n(72 hour cancelation policy)\nOfficial notice is hereby given that the North Carolina Rural Letter Carriers’ Association State\nConvention will convene at the Harrah’s Resort in Cherokee\, North Carolina on June 20-22\, 2022.\nBusiness begins at 8:00 am on Monday June 20\, 2022.\nAn election will be held for the offices of President\, Vice President (one-year terms)\, SecretaryTreasurer (two-year term)\, and Executive Committeeman (three-year term). The elections will be held on\nWednesday June 22\, 2022.
URL:https://www.ncrlca.org/event/room-reservation-link-for-nc-state-convention-in-cherokee/
LOCATION:Harrah’s Resort & Casino\, 777 Casino Drive\, Cherokee\, NC\, 28719\, United States
END:VEVENT
BEGIN:VEVENT
DTSTART;VALUE=DATE:20220503
DTEND;VALUE=DATE:20220504
DTSTAMP:20260419T092649
CREATED:20220421T095845Z
LAST-MODIFIED:20220421T095845Z
UID:2334-1651536000-1651622399@www.ncrlca.org
SUMMARY:RUTHERFORD/POLK/HENDERSON/TRANSYLVANIA DISTRICT #47 TO MEET
DESCRIPTION:Rutherford/Polk/Henderson/Transylvania District #47 will hold a Business Meeting on May 3\, 2022 to elect District Officers and State Convention Delegates. \nGuest speakers will be Assistant Distant Representative Eddie Moss and Executive Committeeman Jay Schreiber. \nFor further information contact President Sheila Hooper at 828.429.6869 or Secretary/Treasurer Cynthia Beheler at 828.395.3417. \n 
URL:https://www.ncrlca.org/event/rutherford-polk-henderson-transylvania-district-47-to-meet/
LOCATION:Big Dave’s Family Seafood\, 123 Commercial Drive\, Forest City\, NC\, 28043\, United States
END:VEVENT
BEGIN:VEVENT
DTSTART;TZID=America/New_York:20220503T180000
DTEND;TZID=America/New_York:20220503T210000
DTSTAMP:20260419T092649
CREATED:20220413T123204Z
LAST-MODIFIED:20220413T123204Z
UID:2288-1651600800-1651611600@www.ncrlca.org
SUMMARY:FOOTHILLS DISTRICT #10 TO MEET
DESCRIPTION:Foothills District #10 will hold a business meeting on May 3\, 2022. Elections for District Officers and NC State Convention Delegates will be held. \nGuest speakers will be Full-time ADR Jeff Essick and NCRLCA Secretary-Treasurer Vicki Gray. \n 
URL:https://www.ncrlca.org/event/foothills-district-10-to-meet/
LOCATION:Captain Galley Seafood Restaurant\, 544 Turnersburg Highway\, Statesville\, NC\, 28625\, United States
END:VEVENT
BEGIN:VEVENT
DTSTART;TZID=America/New_York:20220503T180000
DTEND;TZID=America/New_York:20220503T210000
DTSTAMP:20260419T092649
CREATED:20220416T170240Z
LAST-MODIFIED:20220416T170240Z
UID:2314-1651600800-1651611600@www.ncrlca.org
SUMMARY:FIVE COUNTY/PERSON DISTRICT #28 TO MEET
DESCRIPTION:Five County/Person District #28 will hold its annual Spring Business Meeting on May 3\, 2022. \nElections for District Officers and State Convention Delegates will be held. \nGuest speakers include PAC Chair Brenda Gibbs\, Assistant District Representative Gail Naillon\, and Executive Committeeman Brian Hamlett. \n 
URL:https://www.ncrlca.org/event/five-county-person-district-28-to-meet/
LOCATION:George’s Oxford Village Family Restaurant\, 104 East Industry Drive #3558\, Oxford\, NC\, 27565\, United States
END:VEVENT
BEGIN:VEVENT
DTSTART;TZID=America/New_York:20220504T180000
DTEND;TZID=America/New_York:20220504T210000
DTSTAMP:20260419T092649
CREATED:20220421T100347Z
LAST-MODIFIED:20220421T100347Z
UID:2337-1651687200-1651698000@www.ncrlca.org
SUMMARY:CASWELL/ROCKINGHAM DISTRICT #14 TO MEET
DESCRIPTION:Caswell/Rockingham District #14 will hold a Business Meeting to elect District Officers and State Convention Delegates on May 4\, 2022. This meeting is members-only but non-members who wish to attend can join at the meeting. \nGuest speakers include Assistant District Representative Gail Naillon and Executive Committeeman Tracy Greer.
URL:https://www.ncrlca.org/event/caswell-rockingham-district-14-to-meet/
LOCATION:Mayflower\, 1641 Freeway Drive\, Reidsville\, NC\, United States
END:VEVENT
BEGIN:VEVENT
DTSTART;TZID=America/New_York:20220505T183000
DTEND;TZID=America/New_York:20220505T183000
DTSTAMP:20260419T092649
CREATED:20220419T000124Z
LAST-MODIFIED:20220419T000124Z
UID:2328-1651775400-1651775400@www.ncrlca.org
SUMMARY:RANDOLPH DISTRICT #42 TO MEET
DESCRIPTION:Randolph District #42 will hold a members-only Business Meeting on Thursday\, May 5\, 2022\, to elect District Officers and State Convention Delegates. Any non-member who wishes to attend the meeting can join at the meeting. \nGuest speakers include a member of the NSS Steward System as well as NCRLCA Secretary-Treasurer Vicki Gray.
URL:https://www.ncrlca.org/event/randolph-district-42-to-meet/
LOCATION:Sir Pizza Restaurant\, 413 US-220 BUS\, Randleman\, NC\, United States
END:VEVENT
BEGIN:VEVENT
DTSTART;TZID=America/New_York:20220506T180000
DTEND;TZID=America/New_York:20220506T210000
DTSTAMP:20260419T092649
CREATED:20220418T235344Z
LAST-MODIFIED:20220418T235344Z
UID:2325-1651860000-1651870800@www.ncrlca.org
SUMMARY:WATAUGA/AVERY DISTRICT #57 TO MEET
DESCRIPTION:Watauga/Avery District #57 will hold a Business Meeting on Friday\, May 6\, 2022\, to elect District Officers and State Convention Delegates. \nDistrict Representative Bethany Small and NCRLCA Vice-President Elaine Althoff are the guest speakers. \nDinner will be provided for attendees.
URL:https://www.ncrlca.org/event/watauga-avery-district-57-to-meet/
LOCATION:Pedalin Pig BBQ\, 4235 HWY 105 South\, Banner Elk\, NC\, 28604\, United States
END:VEVENT
BEGIN:VEVENT
DTSTART;VALUE=DATE:20220511
DTEND;VALUE=DATE:20220512
DTSTAMP:20260419T092649
CREATED:20220421T101048Z
LAST-MODIFIED:20220425T212703Z
UID:2340-1652227200-1652313599@www.ncrlca.org
SUMMARY:SEALEVEL DISTRICT #23 TO MEET
DESCRIPTION:Sea Level District #23 will hold a business meeting on May 11\, 2022 to elect officers and delegates to the State Convention. \nGuest speakers include District Representative Bethany Small and Executive Committeeman Jay Schrieber.
URL:https://www.ncrlca.org/event/sealevel-district-23-to-meet/
LOCATION:Goldn Corral\, 921 N. Wesleyan Blvd.\, Rocky Mount\, NC\, 27804\, United States
END:VEVENT
BEGIN:VEVENT
DTSTART;TZID=America/New_York:20220517T183000
DTEND;TZID=America/New_York:20220517T200000
DTSTAMP:20260419T092649
CREATED:20220510T013203Z
LAST-MODIFIED:20220510T013203Z
UID:2363-1652812200-1652817600@www.ncrlca.org
SUMMARY:PEACH BELT DISTRICT #5 TO MEET
DESCRIPTION:Peach Belt District #5 will hold its Business Meeting On Tuesday\, May 17\, 2022. New officers will be elected. Please RSVP to Billie Helton at 910.334.0607 or Terry Jones at 910.894.0688 by May 12\, 2022\, as dinner will be provided to attendees. \nGuest speakers include NCRLCA President Audrey Solomon.
URL:https://www.ncrlca.org/event/peach-belt-district-5-to-meet/
LOCATION:Hudson Brothers Deli\, 115 S. Lee Street\, Rockingham\, NC\, United States
END:VEVENT
END:VCALENDAR