BEGIN:VCALENDAR
VERSION:2.0
PRODID:-//NCRLCA - ECPv6.15.20//NONSGML v1.0//EN
CALSCALE:GREGORIAN
METHOD:PUBLISH
X-WR-CALNAME:NCRLCA
X-ORIGINAL-URL:https://www.ncrlca.org
X-WR-CALDESC:Events for NCRLCA
REFRESH-INTERVAL;VALUE=DURATION:PT1H
X-Robots-Tag:noindex
X-PUBLISHED-TTL:PT1H
BEGIN:VTIMEZONE
TZID:America/New_York
BEGIN:DAYLIGHT
TZOFFSETFROM:-0500
TZOFFSETTO:-0400
TZNAME:EDT
DTSTART:20240310T070000
END:DAYLIGHT
BEGIN:STANDARD
TZOFFSETFROM:-0400
TZOFFSETTO:-0500
TZNAME:EST
DTSTART:20241103T060000
END:STANDARD
BEGIN:DAYLIGHT
TZOFFSETFROM:-0500
TZOFFSETTO:-0400
TZNAME:EDT
DTSTART:20250309T070000
END:DAYLIGHT
BEGIN:STANDARD
TZOFFSETFROM:-0400
TZOFFSETTO:-0500
TZNAME:EST
DTSTART:20251102T060000
END:STANDARD
BEGIN:DAYLIGHT
TZOFFSETFROM:-0500
TZOFFSETTO:-0400
TZNAME:EDT
DTSTART:20260308T070000
END:DAYLIGHT
BEGIN:STANDARD
TZOFFSETFROM:-0400
TZOFFSETTO:-0500
TZNAME:EST
DTSTART:20261101T060000
END:STANDARD
END:VTIMEZONE
BEGIN:VEVENT
DTSTART;TZID=America/New_York:20251013T080000
DTEND;TZID=America/New_York:20251013T170000
DTSTAMP:20260419T094248
CREATED:20251013T182444Z
LAST-MODIFIED:20251013T182444Z
UID:4685-1760342400-1760374800@www.ncrlca.org
SUMMARY:SANDHILLS DISTRICT #20 TO MEET
DESCRIPTION:Sandhills District #20 will hold a meeting on Thursday\, October 16\, 2025. \nLocation: Chason’s Buffet\, 1758 Owen Drive\, Fayetteville\, NC\, from 6:00 pm to 8:00 pm. \nGuest speakers include NCRLCA Executive Committeeman Alicia Pressley\, and ADR Ralph Fernandez.
URL:https://www.ncrlca.org/event/sandhills-district-20-to-meet-5/
LOCATION:NC
END:VEVENT
END:VCALENDAR