BEGIN:VCALENDAR
VERSION:2.0
PRODID:-//NCRLCA - ECPv6.15.20//NONSGML v1.0//EN
CALSCALE:GREGORIAN
METHOD:PUBLISH
X-ORIGINAL-URL:https://www.ncrlca.org
X-WR-CALDESC:Events for NCRLCA
REFRESH-INTERVAL;VALUE=DURATION:PT1H
X-Robots-Tag:noindex
X-PUBLISHED-TTL:PT1H
BEGIN:VTIMEZONE
TZID:America/New_York
BEGIN:DAYLIGHT
TZOFFSETFROM:-0500
TZOFFSETTO:-0400
TZNAME:EDT
DTSTART:20210314T070000
END:DAYLIGHT
BEGIN:STANDARD
TZOFFSETFROM:-0400
TZOFFSETTO:-0500
TZNAME:EST
DTSTART:20211107T060000
END:STANDARD
BEGIN:DAYLIGHT
TZOFFSETFROM:-0500
TZOFFSETTO:-0400
TZNAME:EDT
DTSTART:20220313T070000
END:DAYLIGHT
BEGIN:STANDARD
TZOFFSETFROM:-0400
TZOFFSETTO:-0500
TZNAME:EST
DTSTART:20221106T060000
END:STANDARD
BEGIN:DAYLIGHT
TZOFFSETFROM:-0500
TZOFFSETTO:-0400
TZNAME:EDT
DTSTART:20230312T070000
END:DAYLIGHT
BEGIN:STANDARD
TZOFFSETFROM:-0400
TZOFFSETTO:-0500
TZNAME:EST
DTSTART:20231105T060000
END:STANDARD
END:VTIMEZONE
BEGIN:VEVENT
DTSTART;TZID=America/New_York:20220131T080000
DTEND;TZID=America/New_York:20220601T170000
DTSTAMP:20260425T131138
CREATED:20220131T121230Z
LAST-MODIFIED:20220131T121230Z
UID:2180-1643616000-1654102800@www.ncrlca.org
SUMMARY:NC RURAL LETTER CARRIERS AUXILIARY SCHOLARSHIP DEADLINE FOR 2022
DESCRIPTION:NC Rural Letter Carriers Auxiliary Scholarship Applications must be submitted no later than June 1\, 2022. \nClick here for Application
URL:https://www.ncrlca.org/event/nc-rural-letter-carriers-auxiliary-scholarship-deadline-for-2022/
LOCATION:NC
END:VEVENT
BEGIN:VEVENT
DTSTART;TZID=America/New_York:20220306T080000
DTEND;TZID=America/New_York:20220520T170000
DTSTAMP:20260425T131138
CREATED:20220307T023803Z
LAST-MODIFIED:20220307T023803Z
UID:2213-1646553600-1653066000@www.ncrlca.org
SUMMARY:ROOM RESERVATION LINK FOR NC STATE CONVENTION IN CHEROKEE
DESCRIPTION:The reservation link to reserve your room for the 116th NC State Convention is listed below. \nhttps://www.caesars.com/book/?propCode=CHE&action=FindRooms&groupcode=S06NCRL \nGroup code        S06NCRL \n116th State Convention\nHarrah’s Resort & Casino\n777 Casino Drive\, Cherokee\, NC 28719\nJune 20 thru 22\, 2022\nPhone (800) 427-7247\nRoom Rate is $109.00 + tax ~ Group is NC Rural Letter Carriers\nReservations must be made by May 20\, 2022\n(72 hour cancelation policy)\nOfficial notice is hereby given that the North Carolina Rural Letter Carriers’ Association State\nConvention will convene at the Harrah’s Resort in Cherokee\, North Carolina on June 20-22\, 2022.\nBusiness begins at 8:00 am on Monday June 20\, 2022.\nAn election will be held for the offices of President\, Vice President (one-year terms)\, SecretaryTreasurer (two-year term)\, and Executive Committeeman (three-year term). The elections will be held on\nWednesday June 22\, 2022.
URL:https://www.ncrlca.org/event/room-reservation-link-for-nc-state-convention-in-cherokee/
LOCATION:Harrah’s Resort & Casino\, 777 Casino Drive\, Cherokee\, NC\, 28719\, United States
END:VEVENT
BEGIN:VEVENT
DTSTART;TZID=America/New_York:20220421T180000
DTEND;TZID=America/New_York:20220421T210000
DTSTAMP:20260425T131138
CREATED:20220407T100514Z
LAST-MODIFIED:20220407T100514Z
UID:2277-1650564000-1650574800@www.ncrlca.org
SUMMARY:BRUSHY MOUNTAIN DISTRICT #3 TO MEET
DESCRIPTION:Brushy Mountain District #3 will hold its annual Business Meeting on April 21\, 2022. \nElections for District Officers and NC State Convention Delegates will be held. \nGuest speakers include NCRLCA President Audrey Solomon and Assistant District Representative Jeff Essick. \n 
URL:https://www.ncrlca.org/event/brushy-mountain-district-3-to-meet/
LOCATION:Yadkin Valley Seafood Restaurant\, 154 Beroth Drive\, Yadkinville\, NC\, 27055\, United States
END:VEVENT
BEGIN:VEVENT
DTSTART;TZID=America/New_York:20220421T180000
DTEND;TZID=America/New_York:20220421T210000
DTSTAMP:20260425T131138
CREATED:20220415T210441Z
LAST-MODIFIED:20220415T210441Z
UID:2311-1650564000-1650574800@www.ncrlca.org
SUMMARY:ROANOKE-CHOWAN DISTRICT #7 TO MEET
DESCRIPTION:Roanoke-Chowan District #7 will hold a Business Meeting on April 21\, 2022. \nGuest speakers will be NCRLCA Executive Committeeman Tracy Greer and a Representative from the National Steward System.
URL:https://www.ncrlca.org/event/roanoke-chowan-district-7-to-meet/
LOCATION:John’s Seafood\, 315 East Main Street\, Murfreesboro\, NC\, 27855\, United States
END:VEVENT
BEGIN:VEVENT
DTSTART;TZID=America/New_York:20220421T183000
DTEND;TZID=America/New_York:20220421T210000
DTSTAMP:20260425T131138
CREATED:20220324T213113Z
LAST-MODIFIED:20220324T213113Z
UID:2245-1650565800-1650574800@www.ncrlca.org
SUMMARY:PIEDMONT DISTRICT #50 TO MEET
DESCRIPTION:Piedmont District #50 will hold its spring business meeting on Thursday\, April 21\, 2022. \nGuest speakers include NC Vice President Elaine Althoff and a member of the NSS Steward System (District Representative or Assistant District Representative). \nElections for District Officers and Delegates to the State Convention will be held.
URL:https://www.ncrlca.org/event/piedmont-district-50-to-meet/
LOCATION:Blue Bay Seafood Restaurant\, 1007 E. Innes Street\, Salisbury\, NC\, 28144\, United States
END:VEVENT
END:VCALENDAR