BEGIN:VCALENDAR
VERSION:2.0
PRODID:-//NCRLCA - ECPv6.15.20//NONSGML v1.0//EN
CALSCALE:GREGORIAN
METHOD:PUBLISH
X-ORIGINAL-URL:https://www.ncrlca.org
X-WR-CALDESC:Events for NCRLCA
REFRESH-INTERVAL;VALUE=DURATION:PT1H
X-Robots-Tag:noindex
X-PUBLISHED-TTL:PT1H
BEGIN:VTIMEZONE
TZID:America/New_York
BEGIN:DAYLIGHT
TZOFFSETFROM:-0500
TZOFFSETTO:-0400
TZNAME:EDT
DTSTART:20200308T070000
END:DAYLIGHT
BEGIN:STANDARD
TZOFFSETFROM:-0400
TZOFFSETTO:-0500
TZNAME:EST
DTSTART:20201101T060000
END:STANDARD
BEGIN:DAYLIGHT
TZOFFSETFROM:-0500
TZOFFSETTO:-0400
TZNAME:EDT
DTSTART:20210314T070000
END:DAYLIGHT
BEGIN:STANDARD
TZOFFSETFROM:-0400
TZOFFSETTO:-0500
TZNAME:EST
DTSTART:20211107T060000
END:STANDARD
BEGIN:DAYLIGHT
TZOFFSETFROM:-0500
TZOFFSETTO:-0400
TZNAME:EDT
DTSTART:20220313T070000
END:DAYLIGHT
BEGIN:STANDARD
TZOFFSETFROM:-0400
TZOFFSETTO:-0500
TZNAME:EST
DTSTART:20221106T060000
END:STANDARD
END:VTIMEZONE
BEGIN:VEVENT
DTSTART;VALUE=DATE:20211108
DTEND;VALUE=DATE:20211214
DTSTAMP:20260423T175830
CREATED:20211027T094430Z
LAST-MODIFIED:20211027T094430Z
UID:1945-1636329600-1639439999@www.ncrlca.org
SUMMARY:FEDERAL BENEFITS OPEN SEASON
DESCRIPTION:REMINDER: Federal Benefits Open Season (for the 2022 Plan Year) runs from Monday\, November 8 to Monday\, December 13\, 2021\n\n\n\n\n\n\n\nOctober 6\, 2021\n\n\n\n\nThe Federal Benefits Open Season (for the 2022 Plan Year) runs from Monday\, November 8\, 2021 to Monday\, December 13\, 2021. During this period\, federal workers\, retirees\, annuitants\, and\, of course\, rural letter carriers have an opportunity to enroll in\, change\, or cancel health insurance coverage (FEHBP)\, dental and/or vision coverage (FEDVIP)\, and make an election for the Federal Flexible Spending Account Program (FSAFEDS).\n\n\nFor more information about the upcoming Open Season and things to keep in mind\, please read the news article by NRLCA Insurance Programs Director Cameron Deml on pg. 362 of the October magazine here.
URL:https://www.ncrlca.org/event/federal-benefits-open-season/
LOCATION:NC
END:VEVENT
END:VCALENDAR